BEGIN:VCALENDAR
VERSION:2.0
PRODID:-//First 5 Orange County - ECPv6.15.20//NONSGML v1.0//EN
CALSCALE:GREGORIAN
METHOD:PUBLISH
X-WR-CALNAME:First 5 Orange County
X-ORIGINAL-URL:https://first5oc.org
X-WR-CALDESC:Events for First 5 Orange County
REFRESH-INTERVAL;VALUE=DURATION:PT1H
X-Robots-Tag:noindex
X-PUBLISHED-TTL:PT1H
BEGIN:VTIMEZONE
TZID:America/Los_Angeles
BEGIN:DAYLIGHT
TZOFFSETFROM:-0800
TZOFFSETTO:-0700
TZNAME:PDT
DTSTART:20250309T100000
END:DAYLIGHT
BEGIN:STANDARD
TZOFFSETFROM:-0700
TZOFFSETTO:-0800
TZNAME:PST
DTSTART:20251102T090000
END:STANDARD
BEGIN:DAYLIGHT
TZOFFSETFROM:-0800
TZOFFSETTO:-0700
TZNAME:PDT
DTSTART:20260308T100000
END:DAYLIGHT
BEGIN:STANDARD
TZOFFSETFROM:-0700
TZOFFSETTO:-0800
TZNAME:PST
DTSTART:20261101T090000
END:STANDARD
BEGIN:DAYLIGHT
TZOFFSETFROM:-0800
TZOFFSETTO:-0700
TZNAME:PDT
DTSTART:20270314T100000
END:DAYLIGHT
BEGIN:STANDARD
TZOFFSETFROM:-0700
TZOFFSETTO:-0800
TZNAME:PST
DTSTART:20271107T090000
END:STANDARD
END:VTIMEZONE
BEGIN:VEVENT
DTSTART;TZID=America/Los_Angeles:20260421T100000
DTEND;TZID=America/Los_Angeles:20260421T113000
DTSTAMP:20260421T012525
CREATED:20260414T215616Z
LAST-MODIFIED:20260414T215616Z
UID:10000023-1776765600-1776771000@first5oc.org
SUMMARY:Strategic Plan Community Forum
DESCRIPTION:We are hosting a community forum to share an overview of our next Strategic Plan and the priorities guiding our future work. Attendees will learn how decisions are being shaped and how progress will be measured\, with opportunities to engage in person. \nPlease register in advance!
URL:https://first5oc.org/event/strategic-plan-community-forum/
LOCATION:First 5 Orange County\, 1505 East 17th Street\, Santa Ana\, CA\, 92705\, United States
ATTACH;FMTTYPE=image/png:https://first5oc.org/wp-content/uploads/2026/04/First-5-OC.Strategic-Plan-Newsletter.png
ORGANIZER;CN="First 5 Orange County":MAILTO:first5oc@cfcoc.ocgov.com
END:VEVENT
BEGIN:VEVENT
DTSTART;TZID=America/Los_Angeles:20260423T183000
DTEND;TZID=America/Los_Angeles:20260423T200000
DTSTAMP:20260421T012525
CREATED:20260323T190130Z
LAST-MODIFIED:20260323T190131Z
UID:10000022-1776969000-1776974400@first5oc.org
SUMMARY:Administration: The Other Side of Family Child Care
DESCRIPTION:Running a successful Family Child Care program is more than daily interactions with children\, it also requires strong administrative practices. Attend a free\, interactive workshop on Thursday\, April 23\, 2026\, from 6:30 pm to 8 pm\, designed specifically for Family Child Care providers looking to strengthen the business side of their work. \nThis session will walk through key administrative responsibilities\, including developing clear policies\, creating an effective Parent Handbook\, and maintaining required licensing files. Through a panel and roundtable format\, providers will have the opportunity to learn from experienced peers\, ask questions\, and gain practical strategies they can apply right away. \nThis workshop is part of a broader series created to support providers at every stage. You’re welcome to attend one or multiple sessions. \nRegistration is required\, register here: https://us06web.zoom.us/meeting/register/7aF5LC2LR96FwtfEsDFF_w
URL:https://first5oc.org/event/administration-the-other-side-of-family-child-care/
LOCATION:Virtual Event
ATTACH;FMTTYPE=image/png:https://first5oc.org/wp-content/uploads/2026/03/2-1.png
END:VEVENT
BEGIN:VEVENT
DTSTART;TZID=America/Los_Angeles:20260425T090000
DTEND;TZID=America/Los_Angeles:20260425T120000
DTSTAMP:20260421T012525
CREATED:20260320T213408Z
LAST-MODIFIED:20260320T213408Z
UID:10000018-1777107600-1777118400@first5oc.org
SUMMARY:2026 Children and Family Health Fair – 4th District Chairman Doug Chaffee
DESCRIPTION:You’re invited by 4th District Chairman Doug Chaffee to the 2026 Children and Family Health on Saturday\, April 25\, 2026\, from 9 a.m. to 12 p.m. at Magnolia High School in Anaheim. This free\, family-friendly event brings together a wide range of resources to support the health and well-being of children and families in our community. First 5 OC will be in attendance with a resource table with information on early learning and Kid Builder resources. \nAttendees can access free health\, vision\, and dental screenings\, connect with providers for public benefit sign-ups\, and participate in engaging wellness activities like dance and yoga classes designed for all ages. Giveaways and food will be distributed on a first-come\, first-served basis while supplies last\, so arriving early with a cart is encouraged. Whether you’re looking for health resources\, family activities\, or community support\, the fair is a one-stop event for the whole family. \nNo registration is required! 
URL:https://first5oc.org/event/2026-children-and-family-health-fair-4th-district-chairman-doug-chaffee/
LOCATION:Magnolia High School\, 2450 W Ball Rd\, Anaheim\, CA\, 92804\, United States
ATTACH;FMTTYPE=image/png:https://first5oc.org/wp-content/uploads/2026/03/Screenshot-2026-03-20-at-2.17.16-PM.png
END:VEVENT
END:VCALENDAR